BEGIN:VCALENDAR
VERSION:2.0
PRODID:Nedbase
NAME:Ozeo kalender
X-WR-CALNAME:Ozeo kalender
BEGIN:VTIMEZONE
TZID:Europe/Amsterdam
BEGIN:STANDARD
DTSTART:20251026T030000
TZOFFSETFROM:+0200
TZOFFSETTO:+0100
END:STANDARD
BEGIN:DAYLIGHT
DTSTART:20260329T020000
TZOFFSETFROM:+0100
TZOFFSETTO:+0200
END:DAYLIGHT
BEGIN:STANDARD
DTSTART:20261025T030000
TZOFFSETFROM:+0200
TZOFFSETTO:+0100
END:STANDARD
END:VTIMEZONE
BEGIN:VTIMEZONE
TZID:UTC
BEGIN:STANDARD
DTSTART:20240620T123535
TZOFFSETFROM:+0000
TZOFFSETTO:+0000
END:STANDARD
END:VTIMEZONE
BEGIN:VEVENT
UID:ozeo-event-1502
DTSTAMP:20250317T123535Z
SUMMARY:Meivakantie 2026
TRANSP:TRANSPARENT
X-MICROSOFT-CDO-ALLDAYEVENT:TRUE
URL:https://www.zeeuwseopmaat.nl/agenda/meivakantie-2026/
DTSTART;TZID=Europe/Amsterdam;VALUE=DATE:20260420
DTEND;TZID=Europe/Amsterdam;VALUE=DATE:20260505
END:VEVENT
BEGIN:VEVENT
UID:ozeo-event-1503
DTSTAMP:20250317T123641Z
SUMMARY:Hemelvaart en de dag erna 2026
TRANSP:TRANSPARENT
X-MICROSOFT-CDO-ALLDAYEVENT:TRUE
URL:https://www.zeeuwseopmaat.nl/agenda/hemelvaart-en-de-dag-erna-2026/
DTSTART;TZID=Europe/Amsterdam;VALUE=DATE:20260514
DTEND;TZID=Europe/Amsterdam;VALUE=DATE:20260515
END:VEVENT
BEGIN:VEVENT
UID:ozeo-event-1504
DTSTAMP:20250317T123735Z
SUMMARY:2de Pinksterdag 2026
TRANSP:TRANSPARENT
X-MICROSOFT-CDO-ALLDAYEVENT:TRUE
URL:https://www.zeeuwseopmaat.nl/agenda/2de-pinksterdag-2026/
DTSTART;TZID=Europe/Amsterdam;VALUE=DATE:20260525
DTEND;TZID=Europe/Amsterdam;VALUE=DATE:20260525
END:VEVENT
BEGIN:VEVENT
UID:ozeo-event-1505
DTSTAMP:20250317T123832Z
SUMMARY:Zomervakantie 2026
TRANSP:TRANSPARENT
X-MICROSOFT-CDO-ALLDAYEVENT:TRUE
URL:https://www.zeeuwseopmaat.nl/agenda/zomervakantie-2026/
DTSTART;TZID=Europe/Amsterdam;VALUE=DATE:20260713
DTEND;TZID=Europe/Amsterdam;VALUE=DATE:20260821
END:VEVENT
BEGIN:VEVENT
UID:ozeo-event-1736
DTSTAMP:20260316T082814Z
SUMMARY:Tweede OpMaat-evenement
TRANSP:TRANSPARENT
URL:https://www.zeeuwseopmaat.nl/agenda/tweede-opmaat-evenement/
DTSTART;TZID=Europe/Amsterdam:20260526T143000
DTEND;TZID=Europe/Amsterdam:20260526T173000
END:VEVENT
END:VCALENDAR